BEGIN:VCALENDAR
VERSION:2.0
PRODID:-//WGIC - ECPv6.15.20//NONSGML v1.0//EN
CALSCALE:GREGORIAN
METHOD:PUBLISH
X-ORIGINAL-URL:https://wgicouncil.org
X-WR-CALDESC:Events for WGIC
REFRESH-INTERVAL;VALUE=DURATION:PT1H
X-Robots-Tag:noindex
X-PUBLISHED-TTL:PT1H
BEGIN:VTIMEZONE
TZID:UTC
BEGIN:STANDARD
TZOFFSETFROM:+0000
TZOFFSETTO:+0000
TZNAME:UTC
DTSTART:20240101T000000
END:STANDARD
END:VTIMEZONE
BEGIN:VEVENT
DTSTART;TZID=UTC:20250623T080000
DTEND;TZID=UTC:20250627T170000
DTSTAMP:20260422T142648
CREATED:20250321T112103Z
LAST-MODIFIED:20250321T112106Z
UID:2283-1750665600-1751043600@wgicouncil.org
SUMMARY:UCGIS Symposium 2025
DESCRIPTION:WGIC will be attending the UCGIS Symposium 2025\, taking place June 23–27 at the University of Wyoming in Laramie\, WY. This year marks a special milestone—the 30th anniversary of the University Consortium for Geographic Information Science—and will be celebrated alongside the symposium’s theme: “Navigating the Geospatial Frontier: Future Directions for Academia and its Partners.” \n\n\n\nWGIC looks forward to participating in these discussions and invites attendees to connect with our team to explore partnership opportunities that advance the geospatial sector through collaboration and innovation. \n\n\n\n📍 Let’s connect and navigate the future of geospatial together!
URL:https://wgicouncil.org/event/ucgis-symposium-2025/
END:VEVENT
END:VCALENDAR