BEGIN:VCALENDAR
VERSION:2.0
PRODID:-//WGIC - ECPv6.15.20//NONSGML v1.0//EN
CALSCALE:GREGORIAN
METHOD:PUBLISH
X-ORIGINAL-URL:https://wgicouncil.org
X-WR-CALDESC:Events for WGIC
REFRESH-INTERVAL;VALUE=DURATION:PT1H
X-Robots-Tag:noindex
X-PUBLISHED-TTL:PT1H
BEGIN:VTIMEZONE
TZID:UTC
BEGIN:STANDARD
TZOFFSETFROM:+0000
TZOFFSETTO:+0000
TZNAME:UTC
DTSTART:20240101T000000
END:STANDARD
END:VTIMEZONE
BEGIN:VEVENT
DTSTART;TZID=UTC:20250610T080000
DTEND;TZID=UTC:20250611T170000
DTSTAMP:20260422T143557
CREATED:20241219T175902Z
LAST-MODIFIED:20241219T175904Z
UID:2182-1749542400-1749661200@wgicouncil.org
SUMMARY:EO Summit
DESCRIPTION:WGIC will attend the EO Summit on June 10-11\, 2025\, at Convene 46th St in New York. The summit will bring together leaders\, innovators\, and experts in the Earth Observation sector to explore the latest trends\, technologies\, and solutions.  \n\n\n\nWGIC looks forward to participating in this important gathering and engaging with industry professionals.
URL:https://wgicouncil.org/event/eo-summit/
END:VEVENT
END:VCALENDAR