BEGIN:VCALENDAR
VERSION:2.0
PRODID:-//WGIC - ECPv6.15.20//NONSGML v1.0//EN
CALSCALE:GREGORIAN
METHOD:PUBLISH
X-WR-CALNAME:WGIC
X-ORIGINAL-URL:https://wgicouncil.org
X-WR-CALDESC:Events for WGIC
REFRESH-INTERVAL;VALUE=DURATION:PT1H
X-Robots-Tag:noindex
X-PUBLISHED-TTL:PT1H
BEGIN:VTIMEZONE
TZID:UTC
BEGIN:STANDARD
TZOFFSETFROM:+0000
TZOFFSETTO:+0000
TZNAME:UTC
DTSTART:20220101T000000
END:STANDARD
END:VTIMEZONE
BEGIN:VEVENT
DTSTART;TZID=UTC:20231031T000000
DTEND;TZID=UTC:20231103T235959
DTSTAMP:20260421T155839
CREATED:20231005T032417Z
LAST-MODIFIED:20231028T093852Z
UID:764-1698710400-1699055999@wgicouncil.org
SUMMARY:Global Inclusion 2023
DESCRIPTION:WGIC will participate in Global Inclusion 2023. Since 2013 Diversity Abroad’s annual conference has constituted the most comprehensive forum for education professionals\, students\, and stakeholders committed to advancing diversity\, equity\, and inclusion in global education and cultural exchange. The event will be an opportunity to share innovations\, build community\, and collaborate to make progress toward a more sustainable and equitable future.
URL:https://wgicouncil.org/event/global-inclusion-2023/
ATTACH;FMTTYPE=image/png:https://wgicouncil.org/wp-content/uploads/2023/10/WGIC-at-Global-Inclusion.png
END:VEVENT
END:VCALENDAR